Workbook

Sheet List1
A1: Na temelju članka 76. Zakona o proračunu («Narodne novine» broj 144/21) i članka 30. Statuta Općine Koprivnički Bregi («Službeni glasnik Koprivničko-križevačke županije» broj 6/13, 3/18, 6/20, 5/21. i 8/21.-pročišćeni tekst), Općinsko vijeće Općine Koprivnički Bregi na 10. sjednici održanoj 23. svibnja 2022. donijelo je
A4: GODIŠNJI IZVJEŠTAJ O IZVRŠENJU PRORAČUNA OPĆINE KOPRIVNIČKI BREGI ZA 2021. GODINU
A6: I. OPĆI DIO
A7: Članak 1.
A9: Proračun Općine Koprivnički Bregi za 2021. godinu („Službeni glasnik Koprivničko-križevačke županije“ broj 28/20. i 26/21) (u daljnjem tekstu: Proračun) izvršen je kako slijedi:
A13: A | B13: RAČUN PRIHODA I RASHODA
B14: BROJČANA OZNAKA I NAZIV | C14: Izvršenje za izvještajno razdoblje 2020. | D14: PLAN 2021./izvorni plan | E14: IZVRŠENJE 2021. | F14: INDEKS 4/2x100 | G14: INDEKS 4/3x100
B15: 1 | C15: 2 | D15: 3 | E15: 4 | F15: 5 | G15: 6
A16: 6 | B16: PRIHODI POSLOVANJA | C16: =List2!C7 -> 5478504 | D16: =List2!D7 -> 6632300 | E16: =List2!E7 -> 5802978 | F16: =E16/C16*100 -> 105.92268 | G16: =E16/D16*100 -> 87.49571
A17: 7 | B17: PRIHODI OD PRODAJE NEFINANCIJSKE IMOVINE | C17: =List2!C57 -> 42487 | D17: =List2!D57 -> 0 | E17: =List2!E57 -> 0 | F17: 0
A18: 3 | B18: RASHODI POSLOVANJA | C18: =List2!C63 -> 4540373 | D18: =List2!D63 -> 4290041 | E18: =List2!E63 -> 3909638 | F18: =E18/C18*100 -> 86.1083 | G18: =E18/D18*100 -> 91.132882
A19: 4 | B19: RASHODI ZA NABAVU NEFINANCIJSKE IMOVINE | C19: =List2!C127 -> 2062331 | D19: =List2!D127 -> 1702900 | E19: =List2!E127 -> 1339325 | F19: =E19/C19*100 -> 64.942291 | G19: =E19/D19*100 -> 78.649656
B20: RAZLIKA – VIŠAK/MANJAK | C20: =C16+C17-C18-C19 -> -1081713 | D20: =D16+D17-D18-D19 -> 639359 | E20: =E16+E17-E18-E19 -> 554015
A22: B | B22: RAČUN FINANCIRANJA
A23: 8 | B23: PRIMICI OD FINANCIJSKE IMOVINE I ZADUŽIVANJA | C23: =List2!C256 -> 22000 | D23: =List2!D256 -> 2000 | E23: =List2!E256 -> 169074 | F23: =E23/C23*100 -> 768.51818 | G23: =E23/D23*100 -> 8453.7
A24: 5 | B24: IZDACI ZA FINANCIJSKU IMOVINU I OTPLATE ZAJMOVA | C24: =List2!C266 -> 0 | D24: =List2!D266 -> 0 | E24: =List2!E266 -> 0
B25: NETO FINANCIRANJE | C25: =C23-C24 -> 22000 | D25: =D23-D24 -> 2000 | E25: =E23-E24 -> 169074
A27: C | B27: PRENESENA SREDSTVA
B28: Ukupni donos viška/manjka iz prethodnih godina | C28: 418354 | E28: -641359
B29: Manjak prihoda i primitaka za pokriće u sljedećem razdoblju | C29: 641359 | D29: 641359
B30: Višak prihoda i primitaka koji se prenosi u slijedeće razdoblje | E30: 81730
A34: Članak 2.
A36: Izvršenje prihoda i rashoda u Računu prihoda i rashoda iskazano je prema ekonomskoj klasifikaciji (Tablica 1.) i prema izvorima financiranja (Tablica 2.) te rashodi prema funkcijskoj klasifikaciji (Tablica 3.) kako slijedi:
B42: Tablica 1. Prihodi i rashodi prema ekonomskoj klasifikaciji izvršeni su kako slijedi:

Sheet List2
A2: A | B2: RAČUN PRIHODA I RASHODA
A3: Tablica 1. Prihodi i rashodi prema ekonomskoj klasifikaciji izvršeni su kako slijedi:
A5: Razred skupina, podskupina i odjeljak | B5: Naziv računa prihoda i rashoda ekonomske klasifikacije | C5: Izvršenje za 2020. | D5: Plan za 2021. /izvorni plan/ | E5: Izvršenje za 2021. | F5: Indeks 4/2x100 | G5: Indeks 4/3x100
A6: 1 | C6: 2 | D6: 3 | E6: 4 | F6: 5 | G6: 6
A7: 6 | B7: PRIHODI POSLOVANJA | C7: =C8+C22+C32+C40+C50+C52 -> 5478504 | D7: =D8+D22+D32+D40+D50+D52 -> 6632300 | E7: =E8+E22+E32+E40+E50+E52 -> 5802978 | F7: =E7/C7*100 -> 105.92268 | G7: =E7/D7*100 -> 87.49571
A8: 61 | B8: PRIHODI OD POREZA | C8: =C9+C17+C19 -> 3960284 | D8: =D9+D17+D19 -> 2214300 | E8: =E9+E17+E19 -> 1732451 | F8: =E8/C8*100 -> 43.745625 | G8: =E8/D8*100 -> 78.239218
A9: 611 | B9: Porez i prirez na dohodak | C9: =C10+C11+C12+C13+C14+C15+C16 -> 3843495 | D9: 2086300 | E9: =E10+E11+E12+E13+E14+E15+E16 -> 1534501 | F9: =E9/C9*100 -> 39.924626 | G9: =E9/D9*100 -> 73.551311
A10: 6111 | B10: Porez i prirez na dohodak od nesamostalnog rada | C10: 3758738 | D10: 0 | E10: 1518405 | F10: =E10/C10*100 -> 40.39667
A11: 6112 | B11: Porez i prirez na dohodak od samostalnih | C11: 162798 | D11: 0 | E11: 226159 | F11: =E11/C11*100 -> 138.92001
A12: 6113 | B12: Porez i prirez na dohodak od imovine i imovinskih prava | C12: 42727 | D12: 0 | E12: 69267 | F12: =E12/C12*100 -> 162.11529
A13: 6114 | B13: Porez i prirez na dohodak od kapitala | C13: 40498 | D13: 0 | E13: 63939 | F13: =E13/C13*100 -> 157.88187
A14: 6115 | B14: Porez i prirez na dohodak po godišnjoj prijavi | C14: 11334 | D14: 0 | E14: 86674 | F14: =E14/C14*100 -> 764.7256
A15: 6116 | B15: Porez i prirez na dohodak utvrđen u postupku nadzora za prethodne godine | C15: 0 | D15: 0 | E15: 0 | F15: 0
A16: 6117 | B16: Povrat poreza i prireza na dohodak po godišnjoj prijavi | C16: -172600 | D16: 0 | E16: -429943 | F16: =E16/C16*100 -> 249.09791
A17: 613 | B17: Porez na imovinu | C17: =C18 -> 93875 | D17: 100000 | E17: =E18 -> 189079 | F17: =E17/C17*100 -> 201.41571 | G17: =E17/D17*100 -> 189.079
A18: 6134 | B18: Povremeni porezi na imovinu | C18: 93875 | D18: 0 | E18: 189079 | F18: =E18/C18*100 -> 201.41571
A19: 614 | B19: Porez na robu i usluge | C19: =C20+C21 -> 22914 | D19: 28000 | E19: =E20+E21 -> 8871 | F19: =E19/C19*100 -> 38.714323 | G19: =E19/D19*100 -> 31.682143
A20: 6142 | B20: Porez na promet | C20: 22914 | D20: 0 | E20: 8353 | F20: =E20/C20*100 -> 36.453696
A21: 6145 | B21: Porez na korištenje dobara i izvođenje aktivnosti | C21: 0 | D21: 0 | E21: 518 | F21: 0
A22: 63 | B22: POMOĆI IZ INOZEMSTVA I OD SUBJEKATA UNUTAR OPĆEG PRORAČUNA | C22: =C23+C26+C29 -> 739613 | D22: =D23+D26+D29 -> 3389000 | E22: =E23+E26+E29 -> 3291003 | F22: =E22/C22*100 -> 444.96284 | G22: =E22/D22*100 -> 97.10838
A23: 633 | B23: Pomoći iz proračuna | C23: =C24+C25 -> 450740 | D23: 2842000 | E23: =E24+E25 -> 2822126 | F23: =E23/C23*100 -> 626.10951 | G23: =E23/D23*100 -> 99.300704
A24: 6331 | B24: Tekuće pomoći iz proračuna | C24: 250740 | D24: 0 | E24: 2486625 | F24: =E24/C24*100 -> 991.71453
A25: 6332 | B25: Kapitalne pomoći iz proračuna | C25: 200000 | D25: 0 | E25: 335501 | F25: =E25/C25*100 -> 167.7505
A26: 634 | B26: Pomoći od izvanproračunskih korisnika | C26: =C27+C28 -> 288873 | D26: 222000 | E26: =E27+E28 -> 213132 | F26: =E26/C26*100 -> 73.780519 | G26: =E26/D26*100 -> 96.005405
A27: 6341 | B27: Tekuće pomoći od izvanproračunskih korisnika | C27: 31256 | D27: 0 | E27: 27989 | F27: =E27/C27*100 -> 89.547607
A28: 6342 | B28: Kapitalne pomoći od izvanproračunskih korisnika | C28: 257617 | D28: 0 | E28: 185143 | F28: =E28/C28*100 -> 71.86754
A29: 638 | B29: Pomoći temeljem prijenosa EU sredstava | C29: =C31 -> 0 | D29: 325000 | E29: =E31+E30 -> 255745 | F29: 0 | G29: =E29/D29*100 -> 78.690769
A30: 6381 | B30: Tekuće pomoći temeljem prijenosa EU sredstava | E30: 116794
A31: 6382 | B31: Kapitalne pomoći temeljem prijenosa EU sredstava | C31: 0 | D31: 0 | E31: 138951 | F31: 0
A32: 64 | B32: PRIHODI OD IMOVINE | C32: =C33+C35 -> 445709 | D32: =D33+D35 -> 570000 | E32: =E33+E35 -> 372974 | F32: =E32/C32*100 -> 83.681056 | G32: =E32/D32*100 -> 65.434035
A33: 641 | B33: Prihodi od financijske imovine | C33: =C34 -> 471 | D33: 2000 | E33: =E34 -> 204 | F33: =E33/C33*100 -> 43.312102 | G33: =E33/D33*100 -> 10.2
A34: 6413 | B34: Kamate na oročena sredstva i depozite po viđenju | C34: 471 | D34: 0 | E34: 204 | F34: =E34/C34*100 -> 43.312102
A35: 642 | B35: Prihodi od nefinancijske imovine | C35: =C36+C37+C38+C39 -> 445238 | D35: 568000 | E35: =E36+E37+E38+E39 -> 372770 | F35: =E35/C35*100 -> 83.723761 | G35: =E35/D35*100 -> 65.628521
A36: 6421 | B36: Naknade za koncesije | C36: 15733 | D36: 0 | E36: 15733 | F36: =E36/C36*100 -> 100
A37: 6422 | B37: Prihodi od zakupa i iznajmljivanja imovine | C37: 362813 | D37: 0 | E37: 312981 | F37: =E37/C37*100 -> 86.265101
A38: 6423 | B38: Naknada za korištenje nefinancijske imovine | C38: 66692 | D38: 0 | E38: 44056 | F38: =E38/C38*100 -> 66.058898
A39: 6429 | B39: Ostali prihodi od nefinancijske imovine | C39: 0 | D39: 0 | F39: 0
A40: 65 | B40: PRIHODI OD UPRAVNIH I ADMINISTRATIVNIH PRISTOJBI, PRISTOJBI PO POSEBNIM PROPISIMA I NAKNADA | C40: =C41+C43+C47 -> 329151 | D40: =D41+D43+D47 -> 449000 | E40: =E41+E43+E47 -> 406550 | F40: =E40/C40*100 -> 123.51474 | G40: =E40/D40*100 -> 90.545657
A41: 651 | B41: Upravne i administrativne pristojbe | C41: =C42 -> 0 | D41: 0 | E41: =E42 -> 0 | F41: 0 | G41: 0
A42: 6512 | B42: Županijske gradske i općinske pristojbe i naknade | C42: 0 | D42: 0 | F42: 0
...

Sheet List3
B2: III. IZVJEŠTAJ O ZADUŽIVANJU
B3: Člana 4.
B4: Izvještaj o zaduživanju Općine Koprivnički Bregi nalazi se u prilogu ovog Godišnjeg izvješća o izvršenju Proračuna te je njegov sastavni dio.
B6: IV. IZVJEŠTAJ O KORIŠTANJU PRORAČUNSKE ZALIHE
B7: Članak 5.
B8: Općina Koprivnički Bregi u izvještajnom razdoblju nije koristila sredstva Proračunske zalihe .
B10: V. IZVJEŠTAJ O DANIM JAMSTVIMA I IZDACIMA PO JAMSTVIMA
B11: Članak 6.
B12: Općina Koprivnički Bregi u izvještajnom razdoblju nije davala jamstva i nije imala izdatke po jamstvima.
B14: VI. OBRAZLOŽENJE OSTVARENJA PRIHODA I PRIMITAKA, RASHODA I IZDATAKA
B15: Članak 7.
B16: Obrazloženje ostvarenja prihoda i primitaka, rashoda i izdataka, nalazi se u prilogu ovog Godišnjeg izvješća o izvršenju Proračuna te je njegov sastavni dio.
... B42: Koprivnički Bregi, 23. svibnja 2022.
E43: PREDSJEDNIK: Siniša Maroševac

Sheet List4
