Workbook
Name _: #REF!
Name __17: #REF!
Name __bod1: #REF!
Name __bod1: #REF!
Name _1: #REF!
Name _1_17: #REF!
Name _1_U: #REF!
Name _1_U_17: #REF!
Name _10: #REF!
Name _10_17: #REF!
Name _10_U: #REF!
Name _10_U_17: #REF!
Name _11: #REF!
Name _11_17: #REF!
Name _11_U: #REF!
Name _11_U_17: #REF!
Name _12: #REF!
Name _12_17: #REF!
Name _12_U: #REF!
Name _12_U_17: #REF!
Name _13: #REF!
Name _13_17: #REF!
Name _13_U: #REF!
Name _13_U_17: #REF!
Name _14: #REF!
Name _14_17: #REF!
Name _14_U: #REF!
Name _14_U_17: #REF!
Name _15: #REF!
Name _15_17: #REF!
Name _15_U: #REF!
Name _15_U_17: #REF!
Name _16: #REF!
Name _16_17: #REF!
Name _16_U: #REF!
Name _16_U_17: #REF!
Name _17: #REF!
Name _17_17: #REF!
Name _17_U: #REF!
Name _17_U_17: #REF!
Name _18: #REF!
Name _18_17: #REF!
Name _18_U: #REF!
Name _18_U_17: #REF!
Name _19: #REF!
Name _19_17: #REF!
Name _19_U: #REF!
Name _19_U_17: #REF!
Name _2: #REF!
Name _2_17: #REF!
Name _2_U: #REF!
Name _2_U_17: #REF!
Name _20: #REF!
Name _20_17: #REF!
Name _20_U: #REF!
Name _20_U_17: #REF!
Name _21: #REF!
Name _21_17: #REF!
Name _21_U: #REF!
Name _21_U_17: #REF!

Sheet NASLOVNICA
E5: građenje, projektiranje i nadzor nad gradnjom
E6: Koprivnica, Trg Tomislava dr. Bardeka 4
A15: INVESTITOR: | C15: Općina Koprivnički Bregi, OIB: 32333277929
C16: Kralja Tomislava 2, 48324 Koprivnički Bregi
A19: GRAĐEVINA: | C19: Proširenje groblja - Glogovac
A22: LOKACIJA: | C22: k.č.br.459/4 k.o. Glogovac
A30: PROJEKTANTSKI TROŠKOVNIK
A31: Proširenje groblja - Glogovac - FAZA 1
F39: Izradio:
F40: Vedran Petrović, dipl.ing.građ.
C44: PETGRAD d.o.o.
C45: Direktor: Vedran Petrović, dipl.ing.građ.
C48: KOPRIVNICA, | D48: prosinac | E48: 2025.

Sheet OPĆI UVJETI
A1: OPĆI I TEHNIČKI UVJETI
A3: Ovi opći uvjeti su sastavni dio troškovnika, i u svemu ih se treba pridržavati, osim ako u stavci troškovnika to nije drugačije navedeno. Prije izrade ponude izvoditelj može pregledati lokaciju budućeg gradilišta, radi ocjene uvjeta za organizaciju gradilišta i organizaciju izvedbe radova. Ovaj troškovnik je napravljen na temelju glavnog projekta. Ponuda mora biti izrađena na temelju danih podloga, kompletna i usuglašena s projektom. Izvođač je dužan prije početka radova proučiti projektnu dokumentaciju i o svim eventualnim primjedbama i uočenim nedostacima obavijestiti investitora odnosno projektanta i/ili nadzornog inženjera pismenim putem.Osim toga, izvođač je obvezan pridržavati se uputa projektanta/nadzora u svim pitanjima koja se odnose na izbor i obradu materijala i način izvedbe pojedinih detalja, ukoliko to nije već detaljno opisano troškovnikom, a naročito u slučajevima kada se zahtjeva izvedba van propisanih standarda. U slučaju da opis pojedine stavke nije dovoljno jasan, mjerodavna je samo uputa i tumačenje projektanta/nadzora. O tome se izvođač treba informirati već prilikom sastavljanja jedinične cijene. Sve eventualne nejasnoće izvođač treba riješiti s Investitorom prije davanja ponude, jer se naknadni zahtjevi neće uvažiti. Sav materijal koji se upotrebljava i oprema koja se ugrađuje mora odgovarati Hrvatskim standardima i propisanoj kvaliteti. Za sve ugrađene materijale, opremu potrebno je dostaviti dokaze kvalitete, protokole o ispitivanju kavlitete na hrvatskom jeziku u svemu prema normativima i zakonima Republike Hrvatske, te uredbi Europske unije. Za sve elemente koji se ugrađuju potrebna je izmjera na objektu. Po donošenju materijala na gradilište, uz poziv izvoditelja, pregled materijala obavit će nadzorni inženjer i njegovo stanje konstatirati u građevinskom dnevniku (odgovara li predmetni materijal standardima i projektu). Zabranjena je upotreba materijala - osnovnog ili pomoćnog, koji nije predviđen opisom, nacrtima, detaljima, osim ukoliko nije dogovorno utvrđeno sa Investitorom i projektantom ili nadzornim inženjerom. Ukoliko izvođač ipak izvede radove na neodgovarajući način i od neodgovarajućih materijala, dužan je na svoj trošak izvesti iste od materijala tražene kvalitete i na opisan način, uz prethodno otklanjanje nekvalitetnih radova. Izvoditelj treba kvalitetu ugrađenih materijala i stručnosti radnika dokazati odgovarajućim atestima i uvjerenjima izdanim od strane za to ovlaštene organizacije. Po završetku izvedenih radova, ali i u toku radova ukoliko je nužno zbog usklađivanja s drugim izvoditeljima, izvoditelj radova je dužan počistiti radni prostor i susjedne prostore, plohe i prethodno izvedene radove koje je svojim radom zaprljao, ili iste radove dogovoriti sa drugim izvoditeljem, a sve to na svoj trošak uključivo i odvoz sveg otpadnog materijala na ovlašenu deponiju ili opreme s gradilišta. Cijene pojedinih radova moraju sadržavati sve elemente koji određuju cijenu gotovog proizvoda, a u skladu sa odredbama troškovnika. Ako u opisu stavke nije navedeno, svaka stavka iz troškovnika sadrži nabavu, dopremu i ugradnju/montažu materijala/opreme, te sav rad , materijal, pomočne skele i sl. potreban za izvršenje stavke. Ako izvođač sumnja u valjanost ili kvalitetu nekog propisanog materijala i drži da za takvu izvedbu ne bi mogao preuzeti odgovornost, dužan je o tome obavijestiti investitora i nadzornog inženjera ili projektanta s obrazloženjem i dokumentacijom pisanim putem. Konačnu odluku donosi projektant u suglasnosti s nadzornim inženjerom i investitorom , nakon proučenog prijedloga izvođača.
A24: Sve radove izvoditelj treba izvesti u skladu sa opisima iz troškovnika, nacrtima i detaljima izvedbe, te važećim standardima i tehničkim uvjetima za odgovarajuću vrstu radova obračunati u skladu sa važećim građevinskim normama. Ukoliko građevinske norme ne postoje za istu vrstu radova, treba se služiti tehničkim uvjetima za izvođenje odgovarajućih radova.
A25: U slučaju nesuglasica između građevinskih normi i tehničkih uvjeta, važeći su uvjeti obračuna i rada iz građevinskih normi.
A26: Izvoditelj je također dužan ukloniti sve zaštitne i pomoćne konstrukcije u roku koji je predviđen za izvođenje radova i na svoj trošak. U cijenu rušenja i demontaže uključiti : rušenje i / ili demontažu, razvrstavanje materijala po vrstama , utovar u vozilo, odvoz i zbrinjavanje uključivo i trošak zbrinjavanja na ovlaštenoj deponiji, a u slučaju sekundarnih sirovina korigirati cijenu prijevoza za iznos predane sekundarne sirove na ovlaštenu deponiju te čiščenje radilišta od zaostataka materijala od rušenja. U cijenu rušenja i demontaža uključiti i sve skele za rad na siguran način. Kod instalacija u cijenu ugraditi demontažu i blindiranje spoja na instalaciju. Sve stavke uključuju i čiščenje prostora nakon demontaža i rušenja. Obračun po jedinici mjere u sraslom stanju. Jedinična cijena sadrži sve nabrojano kod opisa pojedine grupe radova, te se na taj način vrši i obračun istih. Jedinične cijene primjenjivat će se na izvedbene količine bez obzira u kojem postotku iste odstupaju od količine u troškovniku. U cijenu koštanja treba uključiti izradu radioničkih nacrta za sve elemente koji nisu standardne proizvodnje, prvorazrednu izvedbu, kvalitetan atestirani dopremu, ugradnju, montažu i razmještaj. Ukoliko investitor odluči da se neki rad ne izvodi, izvođač nema pravo na odštetu, ako mu je investitor pravovremeno o tome dao obavijest. Izvođać radova je dužan prije početka radova kontrolirati kote postojećeg terena. Ukoliko se pokažu eventualne nejednakosti između projekta i stanja na gradilištu, izvođač radova je dužan pravovremeno o tome obavijestiti investitora i nadzornog inženjera, te zatražiti objašnjenja. Sve mjere u projektnoj dokumentaciji provjeriti u naravi. Sva kontrola se vrši bez posebne naplate. Izvođač je obvezan putem dnevnika registrirati sve izmjene i eventualna odstupanja od projekta. Prilikom izvođenja radova, izvoditelj treba zaštititi sve susjedne plohe, dijelove konstrukcije i prethodno izvedene radove na prikladan način a u skladu sa pravilima zaštite na radu, tako da ne dođe do oštećenja gore navedenoga. Troškove zaštite treba izvoditelj uračunati u jediničnu cijenu. Ukoliko ipak dođe do oštećenja prethodno izvedenih radova za koje je odgovoran izvoditelj ili njegov kooperant, dužan je iste o svom trošku dovesti u stanje prije oštećenja ili naručiti iste radove kod drugog izvoditelja na svoj teret. Popravak treba izvesti u primarno određenom roku ili dogovorno. Osim navedenih općih uvjeta, za određene grupe radova vrijede posebne opće napomene kojih se zajedno sa ovim općim uvjetima treba pridržavati. Opći uvjeti na pojedinih grupa radova odnose se na sve stavke radova te grupe, osim ako u opisu stavke nije drugačije opisano. Ukoliko materijal u pojedinim stavkama nije naznačen ili nije dovoljno jasno preciziran u pogledu kvalitete, izvođač je dužan upotrijebiti prvoklasni materijal. Jediničnom cijenom treba obuhvatiti sve elemente navedene kako slijedi: a) Materijal Svaki opis predmeta nabave i formuliranje tehničkih specifikacija upućivanjem na europske norme, europska tehnička odobrenja, zajedničke tehničke specifikacije, međunarodne norme, druge tehničke referentne sustave koje su utvrdila europska normizacijska tijela, nacionalne norme, nacionalna tehnička odobrenja ili nacionalne tehničke specifikacije (uz uvažavanje redoslijeda prioriteta), koje se odnose na projektiranje, izračun i izvođenje radova, te uporabu robe, podrazumjeva nedvojbenu jednakovrijenost tehničkih karakteristika predmeta nabave, bez posebnog navođenja. Prije nuđenja radova potrebno izvršiti uvid u postojeće stanje na licu mjesta.
A44: Pod cijenom materijala podrazumijeva se dobavna cijena materijala koji sudjeluju u radnom procesu, kako osnovnih materijala, tako i pomoćnih. U cijenu je uključena i cijena transportnih troškova bez obzira na prijevozno sredstvo, sa svim prijenosima, utovarima i istovarima materijala, te podizanjima na mjesto ugradbe, kao i uskladištenje i čuvanje na gradilištu. U cijenu je također uključeno i davanje potrebnih uzoraka, (prema zahtjevu i odredbama zskonskih propisa i investitora ili projektanta). b) Rad U kalkulaciju treba uključiti sav rad, kako glavni, tako i pomoćni, te sav unutrašnji transport, kako horizontalni tako i vertikalni. Ujedno treba uključiti i rad oko zaštite gotovih dijelova građevine od štetnog atmosferskog utjecaja vrućine, hladnoće, padalina i sličnog. Sva potrebna čišćenja nakon završetka pojedinog rada, kod svih građevinskih i obrtničkih radova treba uključiti u jedinične cijene stavki, tj. neće se posebno plaćati.
A45: c) Izmjere Ukoliko nije u pojedinoj stavci dan način rada, izvođač se u svemu treba pridržavati propisa HRN-a za pojedinu vrstu rada, prosječnih normi u građevinarstvu i uputa proizvođača materijala koji se upotrebljava ili ugrađuje. d) Zimski i ljetni rad Ukoliko je u ugovoreni termin izvršenja radova uključen i zimski, odnosno ljetni period, to se neće izvođaču priznati nikakve naknade za rad pri niskoj, odnosno visokoj temperaturi, te zaštita građevine od smrzavanja, vrućine i atmosferskih nepogoda: sve to mora biti uključeno u jediničnu cijenu. Za vrijeme ljetnih, odnosno zimskih razdoblja izvođač ima štititi građevinu od smrzavanja, odnosno od prebrzog sušenja uslijed visokih ljetnih temperatura. e) Faktori U jediničnu cijenu izvođač ima pravo faktorom obuhvatiti i slijedeće radove, koji se neće zasebno platiti, kao naknadni rad, i to: mjere higijenske i zaštite na radu svih radnika i osoba na gradilištu kompletnu režiju gradilišta uključujući dizalice, mehanizaciju i sl. najamne troškove za posuđenu mehanizaciju, koju izvođač sam ne posjeduje, a potrebna je pri izvođenju radova nalaganje temelja prije iskopa (nanosna skela) sva ispitivanja materijala i ugrađenih uređaja. uređenje gradilišta po završetku pojedine grupe radova, sa otklanjanjem i odvozom otpadaka i šute, ostataka građevinskog materijala, inventara, pomoćnih objekata i sl, privremena regulacija prometa. Uskladištenje materijala i elemenata do njihove ugradbe, uključivo i osiguranje privremene deponije. Nikakvi režijski sati niti posebne naplate po navedenim radovima neće se posebno priznati, jer sve ovo treba biti uključeno u jediničnu cijenu. Prema ovom uvodu, opisu stavaka i grupi radova treba sastaviti jediničnu cijenu za svaku stavku troškovnika. f) Skele Sve vrste radnih skela, bez obzira na visinu, ulaze u jediničnu cijenu dotičnog rada. Skela mora biti na vrijeme postavljena, kako ne bi došlo do zastoja u radu. Pod pojmom skele podrazumijeva se i prilaz istoj, te ograda. Također, kod zemljanih radova u jediničnu cijenu ulaze razupore, te mostovi za prebacivanje kod iskopa većih dubina. Pod skelama se podrazumijevaju prilazi i mostovi koji služe prilikom betoniranja pojedinih armiranobetonskih konstrukcija. Postavljene skele služe za izvedbu svih radova na objektu.
A65: g) Ostalo U jedinične cijene stavki trebaju biti uračunati svi radovi i potrebni materijali, koji eventualno nisu posebno specificirani u samom troškovniku, a koji su (prema uzancama struke i pravilima dobrog zanata) potrebni za kvalitetan završetak rada, opisanog stavkom troškovnika. Po završetku radova, izvoditelj zajedno sa nadzornim inženjerom treba zapisnički ustanoviti kvalitetu izvedenih radova. Ukoliko se ustanovi da su radovi izvedeni nekvalitetno, izvoditelj je dužan iste ponovo izvesti u traženoj kvaliteti ili iste naručiti kod drugog izvoditelja, a sve u najkraćem dogovorenom roku i na svoj trošak. Po završetku svih radova na objektu izvođač je dužan ukloniti privremene objekte, očistiti gradilište i sva ostala
A66: prekopavanja dovesti u prvobitno stanje, te o svom trošku odgovarajućim sredstvima čišćenja, pranja i sl., dovede cijelu predmetnu građevinu sa instalacijama u potpuno čisto i ispravno stanje i u tom ih stanju odražavati do predaje na korištenje. Sva odstupanja stvarno izvedenih količina u odnosu na količine predviđene projektantskim troškovima (+ ili -) obračunati će se prema stvarno izvršenim radovima što će se sporazumno riješiti između predstavnika izvođača i nadzornog inženjera odnosno investitora. Ukoliko se tijekom gradnje ukaže opravdana potreba za manjim odstupanjima od troškovnika ili njegovim izmjenama, izvođač je dužan prethodno pribaviti suglasnost investitora i nadzornog inženjera. Ako tijekom izvedbe radova dođe do promjena ili potrebe za izvedbom naknadnih i nepredviđenih radova, izvoditelj je dužan prije početka izvedbe tih radova tražiti suglasnost nadzornog inženjera putem upisa u građevinski dnevnik, te pismenim putem uz analizu cijena i od ovlaštenog predstavnika investitora. Po prihvaćanju promjena, izvoditelj je dužan dati dopunsku ponudu na koju nadzorni inženjer daje suglasnost. Prije odobravanja nepredviđenih radova izvoditelju je zabranjeno izvođenje tih radova. Izvođač je obvezan putem građevinskog dnevnika registrirati sve izmjene i eventualna odstupanja od troškovnika. Svi vantroškovnički radovi koji se neće utvrditi na gore opisani način, neće se moći priznati u obračunu. Obračun radova vršiti će se prema stvarno izvedenim količinama radova utvrđenim putem građevinske knjige sa pripadajućim obračunskim nacrtima i ugovorenih jediničnih cijena, prema opisu stavaka troškovnika. Svi radovi na zaštitama i/ili izmještanjima komunalnih instalacija moraju se izvoditi uz znanje, odobrenje i prisustvo predstavnika komunalnih poduzeća. Projekti za izmještanje komunalnih instalacija, ukoliko komunalna poduzeća traže takve projekte, nisu obuhvaćeni ovim troškovnicima niti jediničnim cijenama. U zoni zahvata radova gdje postoje komunalne instalacije, predstavnici komunalnih poduzeća moraju označiti položaje i dubine postojećih instalacija i to u prisustvu izvođača radova i nadzornog inženjera. Navedeni radovi moraju biti uključeni u jedinične cijene stavaka troškovnika i neće se posebno obračunavati.
A87: Troškovi ispitivanja materijala, uzimanje uzoraka, laboratorijska obrada sa izdavanjem atesta, te ispitivanja svih ugrađenih slojeva. Stavka uključuje ispitivanje modula stišljivosti Ms svih slojeva (posteljice, tamponskog sloja...), davanje recepture i dokaznog radnog sastava za asfaltne slojeve. U cijenu stavke uključiti kompletan materijal (atesti za sve ugrađene materijale i elemente, izvještaj o tekućim i kontrolnim ispitivanjima) kao dokaz kvalitete izvedenih radova i ugrađenog materijala.
A88: Svi uvjeti opisani troškovnikom i programom kontrole odnose se na kompletan troškovnik.
A89: Prije izvođenja svakog rada mora se izvršiti točno razmjeravanje i obilježavanje.
... A95: Sve dimenzije mjera i specifikacija opreme dozvoljena odstupanja su +/-10%.

Sheet OPĆI DIO
A1: Registracija poduzeća

Sheet PRIPREMNI RADOVI
A1: Broj stavke | B1: Opis stavke | C1: Jedinična mjera | D1: Količina | E1: Jedinična cijena | F1: Iznos stavke
A2: 1.00. | B2: PRIPREMNI RADOVI
A4: 1.01. | B4: GEODETSKA MJERENJA
B5: Sva geodetska mjerenja kojima se podaci iz projekta prenose na teren i/ ili s terena u projekte, osiguranje osi, iskolčenje parkirališta, pješačkih staza i ograda, iskolčenje elemenata prometnice, staze, parkirališta, jarka, kanalizacije, profiliranje, obnavljanje i održavanje iskolčenih oznaka na terenu za vrijeme građenja odnosno do predaje radova investitoru. Izvođač iskolčava sve objekte koje obuhvaća projektna dokumentacija. U cijenu uključiti i izradu snimke izvedenog stanja od strane ureda ovlaštenog geodeta za sve izvedene objekte iz projektne dokumentacije uključivo cestu, parkiralište, cestovnog jarka pješačke staze i pročelja i ograda, instalcija, te izradu elaborata iskolčenja i elaborata izvedenog stanja sa upisom u katastar, sve potrebne Izjave ovlaštenog geodeta i dokumentaciju potrebnu za uspješnu provedbu tehničkog pregleda. Stavkom obuhvatiti i svakodnevno geodetsko praćenje izvođenja radova za vrijeme njihovih trajanja. | C5: kom | D5: 1 | F5: =E5*D5 -> 0
A7: 1.02. | B7: UREĐENJE I OPREMANJE GRADILIŠTA
B8: Uređenje i opremanje gradilišta. Stavka obuhvaća dovoz, postavljanje u pogonsko stanje, korištenje, demontiranje i odvoz svih privremenih objekata za radnike, materijal, alat, sanitarni čvor, uređaja, postrojenja, oplata, ukrućenja, građ. strojeva i transportnih sredstava koja će se koristiti na gradilištu uključivo i ograda oko gradilišta (ograda oko gradilišta mora biti fizčka barijera) i nanosnih skela te izvedbu konstrukcije za siguran prolaz ljudi. (U slučaju upotrebe kranskih dizalica ili kranova općenito iste je potrebno dodatno ograditi!). Stavka se odnosi na kompletan obuhvat zahvata odnosno predmetnu građevinu !
B9: Ova stavka obuhvaća i dovoz na gradilište te pravilno skladištenje sveg potrebnog materijala koji će se koristiti kod izgradnje te saniranje svih površina koje su služile za privremeno deponiranje rastresitog materijala. Gradilište je potrebno održavati urednim, sa redovitim zbrinjavanjem građevinskog otpada.
B10: Doprema zaštitne mreže i izrada osiguranja otvorenog rova za vrijeme izvođenja radova. Pod osiguranjem se smatra obostrano postavljanje ograde od zaštitne PVC mreže naračaste boje visine cca 1,0 m, veličine otvora cca 10 x 10 cm.
B11: Stavka obuhvaća i trošak pripreme građenja, odnosno izrade projekta organizacije građenja (terminski planovi građenja u obliku gantograma, razrada tehnologije građenja,...).
B12: Stavka obuhvaća i sve režijske troškove gradilišta, te troškove najma prostora za skladištenje materijala i najma sanitarija. | C12: kompl | D12: 1 | F12: =E12*D12 -> 0
A14: 1.03. | B14: PLOČA ZA OZNAČAVANJE GRADILIŠTA
B15: Dobava i ugradba ploče kojom će se označiti gradilište. Ploča mora sadržavati podatke u skladu s člankom 134. Zakona o gradnji (NN 153/2013, 20/17, 39/19, 125/19), tj. obavezno sadrži ime, odnosno tvrtku investitora, projektanta, izvođača i osobe koja provodi stručni nadzor građenja, naziv i vrstu građevine koja se gradi, naziv tijela koje je izdalo građevinsku dozvolu, klasifikacijsku oznaku, urudžbeni broj, datum izdavanja i pravomoćnosti, odnosno izvršnosti te dozvole i datum prijave početka građenja. U slučaju oštećenja ploče, izvođač će ju zamijeniti o svom trošku. Stavka obuhvaća i uklanjanje ploče po završetku izvođenja radova.
B16: Obračun po komadu. | C16: kom | D16: 1 | F16: =D16*E16 -> 0
A18: 1.00. | B18: PRIPREMNI RADOVI - UKUPNO : | D18: 0 | F18: =SUM(F4:F17) -> 0

Sheet ZEMLJANI RADOVI
A1: Broj stavke | B1: Opis stavke | C1: Jedinična mjera | D1: Količina | E1: Jedinična cijena | F1: Iznos stavke
A2: 2.00. | B2: ZEMLJANI RADOVI
A4: 2.01. | B4: ŠIROKI ISKOP
B5: Široki iskop zemljanog materijala "C" kategorije (strojni iskop 95%, ručni iskop 5%) sa utovarom i odvozom na deponiju do 15 km koji osigurava izvođač. U stavku obračunati i sva potrebna proširenja i produbljenja u slučaju nailaska na loše tlo. Iskop se uglavnom predviđa strojno pomoću prikladne mehanizacije (bagera ili rovokopača), dok se ručno predviđa samo na mjestima gdje se iskop ne može izvršiti mehanizacijom (kolizija sa postojećim nadzemnim, podzemnim objektima i instalacijama). Iskop se obavlja prema visinskim kotama iz projekta te propisanim nagibima kosina, dubine prema projektu, Zbijenost posteljice mora iznositi min. 25 MN/m², SZ=100%. Materijal za nasipavanje okolnog terena mora odobriti nadzorni inženjer upisom u građevinski dnevnik. U jediničnoj cijeni stavke obuhvaćen je iskop, utovar, prijevoz, istovar, deponiranje do 15km i po potrebi ispumpavanje vode. Ručni iskop kod eventualnih nailaska na instalacije u području zahvata. Predviđa se zadržavanje dijela zemljenog materijala i deponiranje na gradilištu za potrebe izravnanja i uređenja zelenih površina. Rad se mjeri u m³ stvarno iskopanog materijala u sraslom stanju. | C5: m3 | D5: 310 | F5: =D5*E5 -> 0
A7: 2.02. | B7: UGRADNJA KAMENOG AGREGATA
B8: Nabava, doprema te nasipavanje, razastiranje i nabijanje kamenog agregata za izradu nevezanog nosivog sloja pješačkih staza. Debljina sloja kamenog agregata granulacije 0-63 mm pješačkih staza iznosi 15 odnosno 40 cm. Kameni materijal za završni sloj pojedinih staza jekameni agregat svijetle boje i granulacije 4 - 16 cm sve sukladno grafičkim prikazima projekta. Materijal ugrađivati i zbijati u slojevima od 30 cm sa vlaženjem materijala i zbijanjem. Stupanj zbijenosti slojeva mora iznositi Ms= 80 MN/m2. Površina nasipanog i zbijenog sloja kamenog agregata mora biti izvedena s točnošću od ±1 cm. Obračun po m3 ugrađenog kamenog materijala u zbitom stanju.
B9: pješačke staze, granulacija 0 - 64mm | C9: m3 | D9: 310 | F9: =E9*D9 -> 0
B10: kameni agregat(svijetle boje) 4 - 16 mm | C10: m3 | D10: 35 | F10: =E10*D10 -> 0
A12: 2.03. | B12: IZRAVNANJE ZELENIH POVRŠINA
B13: Izvedba radova na izravnanju zelenih površina. U stavku uključiti planiranje zemljanog materijala na potrebnu visinu. Obračun po m2 uređene zelene površine. | C13: m2 | D13: 400 | F13: =E13*D13 -> 0
A15: 2.04. | B15: DOBAVA I POSTAVA GEOTEKSTILA
B16: Nabava, doprema i ugradnja netkanog geotekstila (300 g/m2). Geotekstil slobodno položen na temeljno tlo, s preklopima od minimalno 20 cm. Preklapanje izvesti u smjeru nasipavanja materijala. Obračun prema stvarno prekrivenoj površini tla, odnosno preklopi se ne uračunavaju dodatno u izvedenu površinu. Preklop uračunati u cijenu stavke. U stavci sav potreban rad i materijal do potpune gotovosti. Obračun po m2 ugrađenog geotekstila. | C16: m2 | D16: 1000 | F16: =E16*D16 -> 0
A19: 2.00. | B19: ZEMLJANI RADOVI - UKUPNO | F19: =SUM(F4:F18) -> 0

Sheet BETONSKI I AB RADOVI
A1: Broj stavke | B1: Opis stavke | C1: Jedinična mjera | D1: Količina | E1: Jedinična cijena | F1: Iznos stavke
A2: 3.00. | B2: BETONSKI I ARMIRANOBETONSKI RADOVI
A4: 3.01. | B4: UGRADNJA PARKOVNIH RUBNJAKA
B5: Nabava, doprema i ugradnja betonskih rubnjaka dim 8x20x100 na podlogu od betona klase C25/30. Postavljene rubnjake je potrebno fugirati. U cijenu stavke uključiti sav rad i materijal za potpuno dovršenje stavke.
B6: Obračun po m' postavljenih rubnjaka | C6: m' | D6: 160 | F6: =E6*D6 -> 0
A9: 3.00. | B9: BETONSKI I ARMIRANOBETONSKI RADOVI - UKUPNO: | E9: 0 | F9: =SUM(F2:F8) -> 0
E12: 0

Sheet MONTAŽERSKI RADOVI
A1: Broj stavke | B1: Opis stavke | C1: Jedinična mjera | D1: Količina | E1: Jedinična cijena | F1: Iznos stavke
A2: 4.00. | B2: MONTAŽERSKI RADOVI
A4: 4.01. | B4: POSTAVA METALNIH RUBNJAKA
B5: Nabava, doprema i ugradnja dvodjelni metalni rubnjak visine 14 cm i debljine 1,5 mm sa stopicom 2,8 cm od pocinčanog čeličnog lima sa ukrasnom spojnom kapicom od obojanog čeličnog lima visine 6 cm i debljine 0,55 mm. Metalna osnova dim. 1,50 x 2000 x 140/28 mm - debljina 1,5 mm, duljina 2000 mm,visina 140 mm, stopica 28 mm. Spojna kapica za povezivanje osnove rubnjaka od pocinčanog lima 0,55 x 2000 x 60/60 – debljina 0,55 mm, visina 60 mm. Dužina po komadu 2,00 m. Ugradnja temeljenjem po cijeloj dužini metalnih rubnjaka u betonski temelj C16/20 dim. 25 x 20 x 20 cm ili temeljenje točkastim temeljima na mjestu spoja rubnjaka i niveliranje sa kotom uređenog terena.
B6: Obračun po m' ugrađenog rubnjaka. | C6: m' | D6: 650 | F6: =D6*E6 -> 0
A9: 4.00. | B9: MONTAŽERSKI RADOVI - UKUPNO : | E9: 0 | F9: =SUM(F4:F8) -> 0
E12: 0

Sheet ASFALTERSKI RADOVI
A1: Broj stavke | B1: Opis stavke | C1: Jedinična mjera | D1: Količina | E1: Jedinična cijena | F1: Iznos stavke
A2: 5.00. | B2: ASFALTERSKI RADOVI
A4: 5.01. | B4: BITUMENIZIRANI PREMAZ
B5: Nabava, doprema i nanošenje bitumeniziranog premaza. Sloj izrađen na bazi bitumenskih veziva treba poprskati bitumenskom emulzijom u količini od 0,15 do 0,35 kg/m², što ovisi o onečišćenosti i istrošenosti podloge. Podloga se umjesto bitumenskom emulzijom može prskati i vrućim bitumenom u količini od 0,1 do 0,2 kg/m2. Prskanje bitumenskom emulzijom ili vrućim bitumenom provodi se isključivo motornim prskalicama, koje omogućavaju jednoliku raspodjelu bitumenske emulzije po površini. Ručno prskanje nije dopušteno, izuzev na mjestima koja nisu dostupna motornoj prskalici uz suglasnost nadzornog inženjera. Prije početka prskanja bitumenskom emulzijom, površina mora biti čista i suha.
B6: Potrebno je s površine odstraniti sve dijelove kojima je kakvoća ispod projektom zahtijevanih vrijednosti, sva labava i napukla zrna krupnog agregata. Prskanje bitumenskom emulzijom sloja izrađenog na bazi bitumenskih veziva nije dopušteno za vrijeme kiše, odnosno pri relativnoj vlažnosti zraka većoj od 75 % i pri temperaturi zraka i podloge nižoj od 5 °C. Prskanje bitumenskom emulzijom asfaltnih slojeva kolničke konstrukcije mjeri se četvornim metrima stvarno poprskane površine sukladno detaljima iz projekta i obračunava se u četvornim metrima poprskane površine. U cijeni su sadržani svi troškovi nabave materijala, prijevoz, oprema i sve ostalo što je potrebno za izvođenje radova. Obračun po m2. | C6: m2 | D6: 240 | F6: =E6*D6 -> 0
A8: 5.02. | B8: BITUMENIZIRANI NOSIVI ASFALTNI SLOJ AC 16 SURF
B9: Nabava, doprema i ugradnja nosivog sloja asfalta AC 16 surf debljine d = 6 cm. Izrađen je od mješavine kamenog brašna, kamenog materijala i bitumena kao veziva. U cijeni su sadržani svi troškovi nabave materijala, proizvodnje i ugradnje asfaltne mješavine, prijevoz, oprema i sve ostalo što je potrebno za izvođenje radova. Obračun po m2 ugrađenog asfalta. | C9: m2 | D9: 240 | F9: =E9*D9 -> 0
A12: 5.00. | B12: ASFALTERSKI RADOVI - UKUPNO : | F12: =SUM(F4:F11) -> 0

Sheet REKAPITULACIJA
B3: REKAPITULACIJA - FAZA 1
A5: 1.0. | B5: PRIPREMNI RADOVI | F5: ='PRIPREMNI RADOVI'!F18 -> 0
A6: 2.0. | B6: ZEMLJANI RADOVI | F6: ='ZEMLJANI RADOVI'!F19 -> 0
A7: 3.0. | B7: BETONSKI I AB RADOVI | F7: ='BETONSKI I AB RADOVI'!F9 -> 0
A8: 4.0. | B8: MONTAŽERSKI RADOVI | F8: ='MONTAŽERSKI RADOVI'!F9 -> 0
A9: 5.0. | B9: ASFALTERSKI RADOVI | F9: ='ASFALTERSKI RADOVI'!F12 -> 0
B11: UKUPNO: | F11: =SUM(F5:F10) -> 0
B12: PDV 25% | F12: =F11*0.25 -> 0
B13: SVEUKUPNO: | F13: =SUM(F11:F12) -> 0
